BEGIN:VCALENDAR
VERSION:2.0
PRODID:-//hacksw/handcal//NONSGML v1.0//EN
CALSCALE:GREGORIAN
BEGIN:VEVENT
DTSTART:20221116T000000
DTEND:20221116T020000
SUMMARY:PANAYOTIS PASCOT
URL;VALUE=URI:https://radiant-bellevue.fr/spectacles/panayotis-pascot/
DTSTAMP:20260423T142041
UID:69ea2ab97b8eb
END:VEVENT
END:VCALENDAR