BEGIN:VCALENDAR
VERSION:2.0
PRODID:-//hacksw/handcal//NONSGML v1.0//EN
CALSCALE:GREGORIAN
BEGIN:VEVENT
DTSTART:20221113T000000
DTEND:20221113T020000
SUMMARY:ALAIN CHOQUETTE
URL;VALUE=URI:https://radiant-bellevue.fr/spectacles/alain-choquette/
DTSTAMP:20260420T102018
UID:69e5fde2f100b
END:VEVENT
END:VCALENDAR