BEGIN:VCALENDAR
VERSION:2.0
PRODID:-//hacksw/handcal//NONSGML v1.0//EN
CALSCALE:GREGORIAN
BEGIN:VEVENT
DTSTART:20231109T000000
DTEND:20231109T020000
SUMMARY:LE PRINCIPE D’INCERTITUDE
URL;VALUE=URI:https://radiant-bellevue.fr/spectacles/le-principe-dincertitude/
DTSTAMP:20260421T080824
UID:69e7307892e68
END:VEVENT
END:VCALENDAR