BEGIN:VCALENDAR
VERSION:2.0
PRODID:-//hacksw/handcal//NONSGML v1.0//EN
CALSCALE:GREGORIAN
BEGIN:VEVENT
DTSTART:20231123T000000
DTEND:20231123T020000
SUMMARY:1983
URL;VALUE=URI:https://radiant-bellevue.fr/spectacles/1983/
DTSTAMP:20260425T165757
UID:69ecf2953a178
END:VEVENT
END:VCALENDAR