BEGIN:VCALENDAR
VERSION:2.0
PRODID:-//hacksw/handcal//NONSGML v1.0//EN
CALSCALE:GREGORIAN
BEGIN:VEVENT
DTSTART:20240114T000000
DTEND:20240114T020000
SUMMARY:LES VIRTUOSES  DE DEMAIN DANS LES CHEFS-D’ŒUVRE D’HIER
URL;VALUE=URI:https://radiant-bellevue.fr/spectacles/les-virtuoses-de-demain-dans-les-chefs-doeuvre-dhier/
DTSTAMP:20260426T015957
UID:69ed719d56724
END:VEVENT
END:VCALENDAR