BEGIN:VCALENDAR
VERSION:2.0
PRODID:-//hacksw/handcal//NONSGML v1.0//EN
CALSCALE:GREGORIAN
BEGIN:VEVENT
DTSTART:20230331T000000
DTEND:20230331T020000
SUMMARY:BERLIN BERLIN
URL;VALUE=URI:https://radiant-bellevue.fr/spectacles/berlin-berlin/
DTSTAMP:20260423T172234
UID:69ea555a77999
END:VEVENT
END:VCALENDAR