BEGIN:VCALENDAR
VERSION:2.0
PRODID:-//hacksw/handcal//NONSGML v1.0//EN
CALSCALE:GREGORIAN
BEGIN:VEVENT
DTSTART:20240316T000000
DTEND:20240316T020000
SUMMARY:THE BLACK BLUES BROTHERS
URL;VALUE=URI:https://radiant-bellevue.fr/spectacles/the-black-blues-brothers/
DTSTAMP:20260421T080645
UID:69e73015da07b
END:VEVENT
END:VCALENDAR