BEGIN:VCALENDAR
VERSION:2.0
PRODID:-//hacksw/handcal//NONSGML v1.0//EN
CALSCALE:GREGORIAN
BEGIN:VEVENT
DTSTART:20240407T000000
DTEND:20240407T020000
SUMMARY:Caravansérail
URL;VALUE=URI:https://radiant-bellevue.fr/spectacles/caravanserail/
DTSTAMP:20260420T091120
UID:69e5edb8c0f4e
END:VEVENT
END:VCALENDAR