BEGIN:VCALENDAR
VERSION:2.0
PRODID:-//hacksw/handcal//NONSGML v1.0//EN
CALSCALE:GREGORIAN
BEGIN:VEVENT
DTSTART:20240523T000000
DTEND:20240523T020000
SUMMARY:BENJAMIN TRANIÉ
URL;VALUE=URI:https://radiant-bellevue.fr/spectacles/benjamin-tranie-2/
DTSTAMP:20260420T095455
UID:69e5f7ef1ac32
END:VEVENT
END:VCALENDAR