BEGIN:VCALENDAR
VERSION:2.0
PRODID:-//hacksw/handcal//NONSGML v1.0//EN
CALSCALE:GREGORIAN
BEGIN:VEVENT
DTSTART:20240203T000000
DTEND:20240203T020000
SUMMARY:BUN HAY MEAN
URL;VALUE=URI:https://radiant-bellevue.fr/spectacles/bun-hay-mean/
DTSTAMP:20260422T084309
UID:69e88a1dd1dee
END:VEVENT
END:VCALENDAR