BEGIN:VCALENDAR
VERSION:2.0
PRODID:-//hacksw/handcal//NONSGML v1.0//EN
CALSCALE:GREGORIAN
BEGIN:VEVENT
DTSTART:20240311T000000
DTEND:20240311T020000
SUMMARY:didoudam
URL;VALUE=URI:https://radiant-bellevue.fr/spectacles/didoudam/
DTSTAMP:20260421T075912
UID:69e72e5063ad2
END:VEVENT
END:VCALENDAR