BEGIN:VCALENDAR
VERSION:2.0
PRODID:-//hacksw/handcal//NONSGML v1.0//EN
CALSCALE:GREGORIAN
BEGIN:VEVENT
DTSTART:20231211T000000
DTEND:20231211T020000
SUMMARY:YSE + THX4CRYING
URL;VALUE=URI:https://radiant-bellevue.fr/spectacles/yse-thx4crying/
DTSTAMP:20260420T091550
UID:69e5eec6271b3
END:VEVENT
END:VCALENDAR