BEGIN:VCALENDAR
VERSION:2.0
PRODID:-//hacksw/handcal//NONSGML v1.0//EN
CALSCALE:GREGORIAN
BEGIN:VEVENT
DTSTART:20241114T000000
DTEND:20241114T020000
SUMMARY:GUIHOME
URL;VALUE=URI:https://radiant-bellevue.fr/spectacles/guihome-2/
DTSTAMP:20260421T015434
UID:69e6d8da0e2b5
END:VEVENT
END:VCALENDAR