BEGIN:VCALENDAR
VERSION:2.0
PRODID:-//hacksw/handcal//NONSGML v1.0//EN
CALSCALE:GREGORIAN
BEGIN:VEVENT
DTSTART:20250201T000000
DTEND:20250201T020000
SUMMARY:FLORIAN LEX
URL;VALUE=URI:https://radiant-bellevue.fr/spectacles/florian-lex/
DTSTAMP:20260420T110011
UID:69e6073b22e41
END:VEVENT
END:VCALENDAR