BEGIN:VCALENDAR
VERSION:2.0
PRODID:-//hacksw/handcal//NONSGML v1.0//EN
CALSCALE:GREGORIAN
BEGIN:VEVENT
DTSTART:20241109T000000
DTEND:20241109T020000
SUMMARY:ULTRA VOMIT
URL;VALUE=URI:https://radiant-bellevue.fr/spectacles/ultra-vomit/
DTSTAMP:20260421T130950
UID:69e7771e1e1e0
END:VEVENT
END:VCALENDAR