BEGIN:VCALENDAR
VERSION:2.0
PRODID:-//hacksw/handcal//NONSGML v1.0//EN
CALSCALE:GREGORIAN
BEGIN:VEVENT
DTSTART:20241113T000000
DTEND:20241113T020000
SUMMARY:CAROLINE VIGNEAUX
URL;VALUE=URI:https://radiant-bellevue.fr/spectacles/caroline-vigneaux/
DTSTAMP:20260420T140327
UID:69e6322f81328
END:VEVENT
END:VCALENDAR