BEGIN:VCALENDAR
VERSION:2.0
PRODID:-//hacksw/handcal//NONSGML v1.0//EN
CALSCALE:GREGORIAN
BEGIN:VEVENT
DTSTART:20250116T000000
DTEND:20250116T020000
SUMMARY:Tanguy Pastureau
URL;VALUE=URI:https://radiant-bellevue.fr/spectacles/tanguy-pastureau/
DTSTAMP:20260420T105139
UID:69e6053b1b52e
END:VEVENT
END:VCALENDAR