BEGIN:VCALENDAR
VERSION:2.0
PRODID:-//hacksw/handcal//NONSGML v1.0//EN
CALSCALE:GREGORIAN
BEGIN:VEVENT
DTSTART:20221213T000000
DTEND:20221213T020000
SUMMARY:DOMINIQUE A
URL;VALUE=URI:https://radiant-bellevue.fr/spectacles/dominique-a/
DTSTAMP:20260424T164052
UID:69eb9d1421bd5
END:VEVENT
END:VCALENDAR