BEGIN:VCALENDAR
VERSION:2.0
PRODID:-//hacksw/handcal//NONSGML v1.0//EN
CALSCALE:GREGORIAN
BEGIN:VEVENT
DTSTART:20240924T000000
DTEND:20240924T020000
SUMMARY:The Hu
URL;VALUE=URI:https://radiant-bellevue.fr/spectacles/the-hu/
DTSTAMP:20260421T112717
UID:69e75f15b861b
END:VEVENT
END:VCALENDAR