BEGIN:VCALENDAR
VERSION:2.0
PRODID:-//hacksw/handcal//NONSGML v1.0//EN
CALSCALE:GREGORIAN
BEGIN:VEVENT
DTSTART:20241117T000000
DTEND:20241117T020000
SUMMARY:L&rsquo\;argent de la vieille
URL;VALUE=URI:https://radiant-bellevue.fr/spectacles/largent-de-la-vieille/
DTSTAMP:20260421T092520
UID:69e742801a89d
END:VEVENT
END:VCALENDAR