BEGIN:VCALENDAR
VERSION:2.0
PRODID:-//hacksw/handcal//NONSGML v1.0//EN
CALSCALE:GREGORIAN
BEGIN:VEVENT
DTSTART:20241122T000000
DTEND:20241122T020000
SUMMARY:Vidéo Club
URL;VALUE=URI:https://radiant-bellevue.fr/spectacles/video-club/
DTSTAMP:20260421T093016
UID:69e743a871eb8
END:VEVENT
END:VCALENDAR