BEGIN:VCALENDAR
VERSION:2.0
PRODID:-//hacksw/handcal//NONSGML v1.0//EN
CALSCALE:GREGORIAN
BEGIN:VEVENT
DTSTART:20241212T000000
DTEND:20241212T020000
SUMMARY:J&rsquo\;avais ma petite robe à fleurs
URL;VALUE=URI:https://radiant-bellevue.fr/spectacles/javais-ma-petite-robe-a-fleurs/
DTSTAMP:20260421T092557
UID:69e742a5a48cd
END:VEVENT
END:VCALENDAR