BEGIN:VCALENDAR
VERSION:2.0
PRODID:-//hacksw/handcal//NONSGML v1.0//EN
CALSCALE:GREGORIAN
BEGIN:VEVENT
DTSTART:20241217T000000
DTEND:20241217T020000
SUMMARY:Big Mother
URL;VALUE=URI:https://radiant-bellevue.fr/spectacles/big-mother/
DTSTAMP:20260421T110048
UID:69e758e0ef1e5
END:VEVENT
END:VCALENDAR