BEGIN:VCALENDAR
VERSION:2.0
PRODID:-//hacksw/handcal//NONSGML v1.0//EN
CALSCALE:GREGORIAN
BEGIN:VEVENT
DTSTART:20250216T000000
DTEND:20250216T020000
SUMMARY:Poil de la bête
URL;VALUE=URI:https://radiant-bellevue.fr/spectacles/poil-de-la-bete/
DTSTAMP:20260421T081532
UID:69e7322471ae8
END:VEVENT
END:VCALENDAR