BEGIN:VCALENDAR
VERSION:2.0
PRODID:-//hacksw/handcal//NONSGML v1.0//EN
CALSCALE:GREGORIAN
BEGIN:VEVENT
DTSTART:20250308T000000
DTEND:20250308T020000
SUMMARY:La chute des anges
URL;VALUE=URI:https://radiant-bellevue.fr/spectacles/la-chute-des-anges/
DTSTAMP:20260421T080938
UID:69e730c23ca97
END:VEVENT
END:VCALENDAR