BEGIN:VCALENDAR
VERSION:2.0
PRODID:-//hacksw/handcal//NONSGML v1.0//EN
CALSCALE:GREGORIAN
BEGIN:VEVENT
DTSTART:20250409T000000
DTEND:20250409T020000
SUMMARY:Coupe du monde d&rsquo\;impro F.F.F.
URL;VALUE=URI:https://radiant-bellevue.fr/spectacles/coupe-du-monde-dimpro-f-f-f/
DTSTAMP:20260420T142646
UID:69e637a6a2c72
END:VEVENT
END:VCALENDAR