BEGIN:VCALENDAR
VERSION:2.0
PRODID:-//hacksw/handcal//NONSGML v1.0//EN
CALSCALE:GREGORIAN
BEGIN:VEVENT
DTSTART:20250521T000000
DTEND:20250521T020000
SUMMARY:Sophia Aram
URL;VALUE=URI:https://radiant-bellevue.fr/spectacles/sophia-aram-3/
DTSTAMP:20260423T155936
UID:69ea41e87ccb8
END:VEVENT
END:VCALENDAR