BEGIN:VCALENDAR
VERSION:2.0
PRODID:-//hacksw/handcal//NONSGML v1.0//EN
CALSCALE:GREGORIAN
BEGIN:VEVENT
DTSTART:20250304T000000
DTEND:20250304T020000
SUMMARY:OJOS + CŒUR
URL;VALUE=URI:https://radiant-bellevue.fr/spectacles/ojos-coeur/
DTSTAMP:20260425T013913
UID:69ec1b41db1e4
END:VEVENT
END:VCALENDAR