BEGIN:VCALENDAR
VERSION:2.0
PRODID:-//hacksw/handcal//NONSGML v1.0//EN
CALSCALE:GREGORIAN
BEGIN:VEVENT
DTSTART:20250602T000000
DTEND:20250602T020000
SUMMARY:Beach House
URL;VALUE=URI:https://radiant-bellevue.fr/spectacles/beach-house/
DTSTAMP:20260420T091626
UID:69e5eeea22c99
END:VEVENT
END:VCALENDAR