BEGIN:VCALENDAR
VERSION:2.0
PRODID:-//hacksw/handcal//NONSGML v1.0//EN
CALSCALE:GREGORIAN
BEGIN:VEVENT
DTSTART:20221218T000000
DTEND:20221218T020000
SUMMARY:GLOB
URL;VALUE=URI:https://radiant-bellevue.fr/spectacles/glob/
DTSTAMP:20260419T132636
UID:69e4d80c48be2
END:VEVENT
END:VCALENDAR