BEGIN:VCALENDAR
VERSION:2.0
PRODID:-//hacksw/handcal//NONSGML v1.0//EN
CALSCALE:GREGORIAN
BEGIN:VEVENT
DTSTART:20251024T000000
DTEND:20251024T020000
SUMMARY:YCARE
URL;VALUE=URI:https://radiant-bellevue.fr/spectacles/ycare-2/
DTSTAMP:20260421T093118
UID:69e743e60c4d9
END:VEVENT
END:VCALENDAR