BEGIN:VCALENDAR
VERSION:2.0
PRODID:-//hacksw/handcal//NONSGML v1.0//EN
CALSCALE:GREGORIAN
BEGIN:VEVENT
DTSTART:20251121T000000
DTEND:20251121T020000
SUMMARY:Parle-moi d’amour
URL;VALUE=URI:https://radiant-bellevue.fr/spectacles/parle-moi-damour/
DTSTAMP:20260419T131135
UID:69e4d487604d0
END:VEVENT
END:VCALENDAR