BEGIN:VCALENDAR
VERSION:2.0
PRODID:-//hacksw/handcal//NONSGML v1.0//EN
CALSCALE:GREGORIAN
BEGIN:VEVENT
DTSTART:20251126T000000
DTEND:20251126T020000
SUMMARY:Le sublime sabotage
URL;VALUE=URI:https://radiant-bellevue.fr/spectacles/le-sublime-sabotage/
DTSTAMP:20260421T110138
UID:69e75912d57c8
END:VEVENT
END:VCALENDAR