BEGIN:VCALENDAR
VERSION:2.0
PRODID:-//hacksw/handcal//NONSGML v1.0//EN
CALSCALE:GREGORIAN
BEGIN:VEVENT
DTSTART:20251129T000000
DTEND:20251129T020000
SUMMARY:Salvatore Adamo
URL;VALUE=URI:https://radiant-bellevue.fr/spectacles/salvatore-adamo-2/
DTSTAMP:20260422T162115
UID:69e8f57bea623
END:VEVENT
END:VCALENDAR