BEGIN:VCALENDAR
VERSION:2.0
PRODID:-//hacksw/handcal//NONSGML v1.0//EN
CALSCALE:GREGORIAN
BEGIN:VEVENT
DTSTART:20251209T000000
DTEND:20251209T020000
SUMMARY:Ring
URL;VALUE=URI:https://radiant-bellevue.fr/spectacles/ring/
DTSTAMP:20260425T182435
UID:69ed06e3ea389
END:VEVENT
END:VCALENDAR