BEGIN:VCALENDAR
VERSION:2.0
PRODID:-//hacksw/handcal//NONSGML v1.0//EN
CALSCALE:GREGORIAN
BEGIN:VEVENT
DTSTART:20251218T000000
DTEND:20251218T020000
SUMMARY:Le duplex
URL;VALUE=URI:https://radiant-bellevue.fr/spectacles/le-duplex/
DTSTAMP:20260421T163858
UID:69e7a822b2686
END:VEVENT
END:VCALENDAR