BEGIN:VCALENDAR
VERSION:2.0
PRODID:-//hacksw/handcal//NONSGML v1.0//EN
CALSCALE:GREGORIAN
BEGIN:VEVENT
DTSTART:20260325T000000
DTEND:20260325T020000
SUMMARY:LA PROCHAINE FOIS QUE TU MORDRAS LA POUSSIÈRE
URL;VALUE=URI:https://radiant-bellevue.fr/spectacles/la-prochaine-fois-que-tu-mordras-la-poussiere/
DTSTAMP:20260421T080758
UID:69e7305e1d0eb
END:VEVENT
END:VCALENDAR