BEGIN:VCALENDAR
VERSION:2.0
PRODID:-//hacksw/handcal//NONSGML v1.0//EN
CALSCALE:GREGORIAN
BEGIN:VEVENT
DTSTART:20260320T000000
DTEND:20260320T020000
SUMMARY:zaho
URL;VALUE=URI:https://radiant-bellevue.fr/spectacles/zaho/
DTSTAMP:20260420T091933
UID:69e5efa55456f
END:VEVENT
END:VCALENDAR