BEGIN:VCALENDAR
VERSION:2.0
PRODID:-//hacksw/handcal//NONSGML v1.0//EN
CALSCALE:GREGORIAN
BEGIN:VEVENT
DTSTART:20260427T000000
DTEND:20260427T020000
SUMMARY:Comme une image
URL;VALUE=URI:https://radiant-bellevue.fr/spectacles/comme-une-image/
DTSTAMP:20260422T135119
UID:69e8d257bfee0
END:VEVENT
END:VCALENDAR