BEGIN:VCALENDAR
VERSION:2.0
PRODID:-//hacksw/handcal//NONSGML v1.0//EN
CALSCALE:GREGORIAN
BEGIN:VEVENT
DTSTART:20260511T000000
DTEND:20260511T020000
SUMMARY:Bleu Nuit
URL;VALUE=URI:https://radiant-bellevue.fr/spectacles/bleu-nuit/
DTSTAMP:20260422T152609
UID:69e8e891307eb
END:VEVENT
END:VCALENDAR