BEGIN:VCALENDAR
VERSION:2.0
PRODID:-//hacksw/handcal//NONSGML v1.0//EN
CALSCALE:GREGORIAN
BEGIN:VEVENT
DTSTART:20230129T000000
DTEND:20230129T020000
SUMMARY:L’OR BLANC
URL;VALUE=URI:https://radiant-bellevue.fr/spectacles/lor-blanc/
DTSTAMP:20260420T103148
UID:69e600944078c
END:VEVENT
END:VCALENDAR