BEGIN:VCALENDAR
VERSION:2.0
PRODID:-//hacksw/handcal//NONSGML v1.0//EN
CALSCALE:GREGORIAN
BEGIN:VEVENT
DTSTART:20230320T000000
DTEND:20230320T020000
SUMMARY:LA COURSE DES GÉANTS
URL;VALUE=URI:https://radiant-bellevue.fr/spectacles/la-course-des-geants/
DTSTAMP:20260423T172124
UID:69ea551400528
END:VEVENT
END:VCALENDAR