BEGIN:VCALENDAR
VERSION:2.0
PRODID:-//hacksw/handcal//NONSGML v1.0//EN
CALSCALE:GREGORIAN
BEGIN:VEVENT
DTSTART:20261113T000000
DTEND:20261113T020000
SUMMARY:BENABAR
URL;VALUE=URI:https://radiant-bellevue.fr/spectacles/benabar/
DTSTAMP:20260423T141745
UID:69ea2a0936515
END:VEVENT
END:VCALENDAR