BEGIN:VCALENDAR
VERSION:2.0
PRODID:-//hacksw/handcal//NONSGML v1.0//EN
CALSCALE:GREGORIAN
BEGIN:VEVENT
DTSTART:20261129T000000
DTEND:20261129T020000
SUMMARY:MARILLION
URL;VALUE=URI:https://radiant-bellevue.fr/spectacles/marillion/
DTSTAMP:20260420T085116
UID:69e5e9042fc1a
END:VEVENT
END:VCALENDAR