BEGIN:VCALENDAR
VERSION:2.0
PRODID:-//hacksw/handcal//NONSGML v1.0//EN
CALSCALE:GREGORIAN
BEGIN:VEVENT
DTSTART:20270310T000000
DTEND:20270310T020000
SUMMARY:LE CAS PUCINE
URL;VALUE=URI:https://radiant-bellevue.fr/spectacles/le-cas-pucine/
DTSTAMP:20260420T021636
UID:69e58c8463046
END:VEVENT
END:VCALENDAR