BEGIN:VCALENDAR
VERSION:2.0
PRODID:-//hacksw/handcal//NONSGML v1.0//EN
CALSCALE:GREGORIAN
BEGIN:VEVENT
DTSTART:20270228T000000
DTEND:20270228T020000
SUMMARY:LEON
URL;VALUE=URI:https://radiant-bellevue.fr/spectacles/leon/
DTSTAMP:20260421T132339
UID:69e77a5b5ffbd
END:VEVENT
END:VCALENDAR