BEGIN:VCALENDAR
VERSION:2.0
PRODID:-//hacksw/handcal//NONSGML v1.0//EN
CALSCALE:GREGORIAN
BEGIN:VEVENT
DTSTART:20270210T000000
DTEND:20270210T020000
SUMMARY:CLASH ROCK – DE SCHUBERT A NIRVANA
URL;VALUE=URI:https://radiant-bellevue.fr/spectacles/clash-rock-de-schubert-a-nirvana/
DTSTAMP:20260424T134634
UID:69eb743a85785
END:VEVENT
END:VCALENDAR