BEGIN:VCALENDAR
VERSION:2.0
PRODID:-//hacksw/handcal//NONSGML v1.0//EN
CALSCALE:GREGORIAN
BEGIN:VEVENT
DTSTART:20270407T000000
DTEND:20270407T020000
SUMMARY:CLASH WORLD – LE BOLERO A BAMAKO
URL;VALUE=URI:https://radiant-bellevue.fr/spectacles/clash-world-le-bolero-a-bamako/
DTSTAMP:20260424T135024
UID:69eb752056bb8
END:VEVENT
END:VCALENDAR