BEGIN:VCALENDAR
VERSION:2.0
PRODID:-//hacksw/handcal//NONSGML v1.0//EN
CALSCALE:GREGORIAN
BEGIN:VEVENT
DTSTART:20261220T000000
DTEND:20261220T020000
SUMMARY:ANTHONY KAVANAGH
URL;VALUE=URI:https://radiant-bellevue.fr/spectacles/anthony-kavanagh-3/
DTSTAMP:20260425T142255
UID:69ecce3fda370
END:VEVENT
END:VCALENDAR