BEGIN:VCALENDAR
VERSION:2.0
PRODID:-//hacksw/handcal//NONSGML v1.0//EN
CALSCALE:GREGORIAN
BEGIN:VEVENT
DTSTART:20230108T000000
DTEND:20230108T020000
SUMMARY:LE MONDE MERVEILLEUX DE MIYAZAKI
URL;VALUE=URI:https://radiant-bellevue.fr/spectacles/le-monde-merveilleux-de-miyazaki/
DTSTAMP:20260420T091020
UID:69e5ed7c8db8d
END:VEVENT
END:VCALENDAR